Workbook

Sheet Overview in £
B1: DOAJ income and expenses 2013-2025 | Q1: 44895 | R1: 45260 | S1: 45625
P2: GBP to USD | Q2: 1.206 | R2: 1.2632 | S2: 1.2733
A3: All numbers in £ (GBP) | B3: 2013 | C3: 2014 | D3: 2015 | E3: 2016 | F3: 2017 | G3: 2018 | H3: 2019 | I3: 2020 | J3: 2021 | K3: 2022 | L3: 2023 | M3: 2024 | P3: USD to GBP | Q3: 0.8292
A5: Income | B5: 176000 | C5: 198000 | D5: 266000 | E5: 415000 | F5: 337000 | G5: 610000 | H5: 803000 | I5: 699000 | J5: 1023000 | K5: 959835 | L5: 1150389 | M5: 1338215 | Q5: =K5*Q$2 -> 1157561 | R5: =L5*R$2 -> 1453171.4 | S5: =M5*S$2 -> 1703949.2
Q6: =K6*Q$2 -> 0 | R6: =L6*R$2 -> 0 | S6: =M6*S$2 -> 0
A7: Expenses | Q7: =K7*Q$2 -> 0 | R7: =L7*R$2 -> 0 | S7: =M7*S$2 -> 0
A8: DOAJ Staff | B8: 116000 | C8: 93000 | D8: 140000 | E8: 174000 | F8: 190000 | G8: 342000 | H8: 316000 | I8: 427000 | J8: ='Input from official annual repo'!G14-J9 -> 447491 | K8: ='Input from official annual repo'!F14-K9 -> 535095 | L8: ='Input from official annual repo'!E14-L9 -> 623885 | M8: ='Input from official annual repo'!D14-M9 -> 606564 | Q8: =K8*Q$2 -> 645324.57 | R8: =L8*R$2 -> 788091.53 | S8: =M8*S$2 -> 772337.94
A9: Director | B9: 18000 | C9: 39000 | D9: 57000 | E9: 65000 | F9: 68000 | G9: 91000 | H9: 94000 | I9: 99000 | J9: 96000 | K9: 86637 | L9: 90090 | M9: 93869 | Q9: =K9*Q$2 -> 104484.22 | R9: =L9*R$2 -> 113801.69 | S9: =M9*S$2 -> 119523.4
A10: IT-services | B10: 37000 | C10: 51000 | D10: 66000 | E10: 51000 | F10: 39000 | G10: 113000 | H10: 134000 | I10: 212000 | J10: ='Input from official annual repo'!G4+'Input from official annual repo'!G17+'Input from official annual repo'!G36 -> 191405 | K10: ='Input from official annual repo'!F4+'Input from official annual repo'!F17+'Input from official annual repo'!F36 -> 411898 | L10: ='Input from official annual repo'!E4+'Input from official annual repo'!E17+'Input from official annual repo'!E36 -> 255076 | M10: ='Input from official annual repo'!D4+'Input from official annual repo'!D17+'Input from official annual repo'!D36 -> 221681 | Q10: =K10*Q$2 -> 496748.99 | R10: =L10*R$2 -> 322212 | S10: =M10*S$2 -> 282266.42
A11: Meetings, conferences, travel etc. | B11: 3000 | C11: 5000 | D11: 5000 | E11: 27000 | F11: 19000 | G11: 33000 | H11: 41000 | I11: 13000 | J11: ='Input from official annual repo'!G21 -> 2540 | K11: ='Input from official annual repo'!F21 -> 32346 | L11: ='Input from official annual repo'!E21 -> 28427 | M11: ='Input from official annual repo'!D21 -> 30469 | Q11: =K11*Q$2 -> 39009.276 | R11: =L11*R$2 -> 35908.986 | S11: =M11*S$2 -> 38796.178
A12: PR/Marketing, Accounting, Bank Charges & Misc. | B12: 2000 | C12: 9000 | D12: 5000 | E12: 4000 | F12: 12000 | G12: 10536 | H12: 14000 | I12: 11000 | J12: ='Input from official annual repo'!G6+'Input from official annual repo'!G8+'Input from official annual repo'!G18+'Input from official annual repo'!G20+'Input from official annual repo'!G22+'Input from official annual repo'!G23+'Input from official annual repo'!G24+'Input from official annual repo'!G29+'Input from official annual repo'!G30 -> 9675 | K12: ='Input from official annual repo'!F6+'Input from official annual repo'!F8+'Input from official annual repo'!F18+'Input from official annual repo'!F20+'Input from official annual repo'!F22+'Input from official annual repo'!F23+'Input from official annual repo'!F24+'Input from official annual repo'!F29+'Input from official annual repo'!F30 -> 25311 | L12: ='Input from official annual repo'!E6+'Input from official annual repo'!E8+'Input from official annual repo'!E18+'Input from official annual repo'!E20+'Input from official annual repo'!E22+'Input from official annual repo'!E23+'Input from official annual repo'!E24+'Input from official annual repo'!E29+'Input from official annual repo'!E30 -> 88495 | M12: ='Input from official annual repo'!D6+'Input from official annual repo'!D8+'Input from official annual repo'!D18+'Input from official annual repo'!D20+'Input from official annual repo'!D22+'Input from official annual repo'!D23+'Input from official annual repo'!D24+'Input from official annual repo'!D29+'Input from official annual repo'!D30 -> 24485 | Q12: =K12*Q$2 -> 30525.066 | R12: =L12*R$2 -> 111786.88 | S12: =M12*S$2 -> 31176.75
A13: Capital to establish Danish Foundation deposited with lawyer | L13: ='Input from official annual repo'!E19 -> 117713 | M13: ='Input from official annual repo'!K19 -> 0 | Q13: =K13*Q$2 -> 0 | R13: =L13*R$2 -> 148695.06 | S13: =M13*S$2 -> 0
A14: Metadata survey | M14: ='Input from official annual repo'!D25 -> 10000 | Q14: =K14*Q$2 -> 0 | R14: =L14*R$2 -> 0 | S14: =M14*S$2 -> 12733
Q15: =K15*Q$2 -> 0 | R15: =L15*R$2 -> 0 | S15: =M15*S$2 -> 0
Q16: =K16*Q$2 -> 0 | R16: =L16*R$2 -> 0 | S16: =M16*S$2 -> 0
A17: IDRC expenses re Ambassadors | Q17: =K17*Q$2 -> 0 | R17: =L17*R$2 -> 0 | S17: =M17*S$2 -> 0
A18: Ambassadors compensation | E18: 46000 | Q18: =K18*Q$2 -> 0 | R18: =L18*R$2 -> 0 | S18: =M18*S$2 -> 0
A19: Other expenses | E19: 3000 | Q19: =K19*Q$2 -> 0 | R19: =L19*R$2 -> 0 | S19: =M19*S$2 -> 0
A20: Total expenses | B20: =SUM(B8:B12) -> 176000 | C20: =SUM(C8:C12) -> 197000 | D20: =SUM(D8:D12) -> 273000 | E20: =SUM(E8:E12) -> 321000 | F20: =SUM(F8:F19) -> 328000 | G20: =SUM(G8:G19) -> 589536 | H20: =SUM(H8:H19) -> 599000 | I20: =SUM(I8:I19) -> 762000 | J20: =SUM(J8:J19) -> 747111 | K20: =SUM(K8:K19) -> 1091287 | L20: 1203686 | M20: =SUM(M8:M19) -> 987068 | Q20: =K20*Q$2 -> 1316092.1 | R20: =L20*R$2 -> 1520496.2 | S20: =M20*S$2 -> 1256833.7
Q21: =K21*Q$2 -> 0 | R21: =L21*R$2 -> 0 | S21: =M21*S$2 -> 0
A22: Debt (to Director) | B22: 18000 | C22: 21000 | D22: 12000 | E22: 0 | F22: 0 | G22: 0 | H22: 0 | I22: 0 | J22: 0 | K22: 0 | L22: 0 | M22: 0 | Q22: =K22*Q$2 -> 0 | R22: =L22*R$2 -> 0 | S22: =M22*S$2 -> 0
Q23: =K23*Q$2 -> 0 | R23: =L23*R$2 -> 0 | S23: =M23*S$2 -> 0
A24: Balance for Year | B24: =B5-B20 -> 0 | C24: =C5-C20 -> 1000 | D24: =D5-D20 -> -7000 | E24: =E5-E20 -> 94000 | F24: =F5-F20 -> 9000 | G24: =G5-G20 -> 20464 | H24: =H5-H20 -> 204000 | I24: =I5-I20 -> -63000 | ... M24: =M5-M20 -> 351147 | Q24: =K24*Q$2 -> -158531.11 | R24: =L24*R$2 -> -67324.77 | S24: =M24*S$2 -> 447115.48
A28: Corp.Tax. | J28: 11953 | K28: -26330 | L28: 0 | M28: 87787
A32: For IOI intra finder update
K33: £ | Q33: $
A34: Contribution | K34: =Q34*$Q$3 -> 795895.18 | M34: 1338215 | Q34: 959835
A35: Liabilities | K35: =Q35*$Q$3 -> 244932.41 | M35: 409492 | Q35: 295384
A36: Assets | K36: =Q36*$Q$3 -> 385027.41 | M36: 757658 | Q36: 464336
M39: 50904
M40: 4000
M41: 5363
M44: =M5-sum(M39:M41)-M46 -> 1168377 | Q44: 959835
M46: 109571 | Q46: =Q5-Q44 -> 197726.01

Sheet Overview in €
B1: DOAJ income and expenses 2013-2025
A3: All numbers in € (EUR) | B3: 2013 | C3: 2014 | D3: 2015 | E3: 2016 | F3: 2017 | G3: 2018 | H3: 2019 | I3: 2020 | J3: 2021 | K3: 2022 | L3: 2023 | M3: 2024 | N3: 2025*
A5: Income | B5: ='Overview in £'!B5*B$35 -> 211348.02 | C5: ='Overview in £'!C5*C$35 -> 248962.63 | D5: ='Overview in £'!D5*D$35 -> 377411.97 | E5: ='Overview in £'!E5*E$35 -> 486803.72 | F5: ='Overview in £'!F5*F$35 -> 383019.71 | G5: ='Overview in £'!G5*G$35 -> 684870.18 | H5: ='Overview in £'!H5*H$35 -> 942212.09 | I5: ='Overview in £'!I5*I$35 -> 778006.57 | ... M5: ='Overview in £'!M5*M$35 -> 1608335 | N5: ='Input from official annual repo'!B45*N35+'Input from official annual repo'!C45*N36 -> 1814236.3
A7: Expenses
A8: DOAJ Staff | B8: ='Overview in £'!B8*B$35 -> 139297.56 | C8: ='Overview in £'!C8*C$35 -> 116936.99 | D8: ='Overview in £'!D8*D$35 -> 198637.88 | E8: ='Overview in £'!E8*E$35 -> 204105.65 | F8: ='Overview in £'!F8*F$35 -> 215945.83 | G8: ='Overview in £'!G8*G$35 -> 383976.4 | H8: ='Overview in £'!H8*H$35 -> 370783.34 | I8: ='Overview in £'!I8*I$35 -> 475262.96 | ... M8: ='Overview in £'!M8*M$35 -> 728999.55 | N8: ='Input from official annual repo'!B14*N35+'Input from official annual repo'!C14*N36-N9 -> 815947.9
A9: Director | B9: ='Overview in £'!B9*B$35 -> 21615.138 | C9: ='Overview in £'!C9*C$35 -> 49038.093 | D9: ='Overview in £'!D9*D$35 -> 80873.994 | E9: ='Overview in £'!E9*E$35 -> 76246.365 | F9: ='Overview in £'!F9*F$35 -> 77285.876 | G9: ='Overview in £'!G9*G$35 -> 102169.16 | H9: ='Overview in £'!H9*H$35 -> 110296.31 | I9: ='Overview in £'!I9*I$35 -> 110189.77 | ... M9: ='Overview in £'!M9*M$35 -> 112816.55 | N9: =M9*(1.02) -> 115072.88 | P9: (Assumed 2% rise from 2024 to 2025)
A10: IT-services | B10: ='Overview in £'!B10*B$35 -> 44431.117 | C10: ='Overview in £'!C10*C$35 -> 64126.737 | D10: ='Overview in £'!D10*D$35 -> 93643.572 | E10: ='Overview in £'!E10*E$35 -> 59824.071 | F10: ='Overview in £'!F10*F$35 -> 44325.723 | G10: ='Overview in £'!G10*G$35 -> 126869.39 | H10: ='Overview in £'!H10*H$35 -> 157230.91 | I10: ='Overview in £'!I10*I$35 -> 235961.94 | ... M10: ='Overview in £'!M10*M$35 -> 266427.53 | N10: =('Input from official annual repo'!B4+'Input from official annual repo'!B5+'Input from official annual repo'!B17+'Input from official annual repo'!B36)*N35+('Input from official annual repo'!C4+'Input from official annual repo'!C17+'Input from official annual repo'!C36)*N36 -> 480294.88
A11: Meetings, conferences, travel etc. | B11: ='Overview in £'!B11*B$35 -> 3602.523 | C11: ='Overview in £'!C11*C$35 -> 6286.935 | D11: ='Overview in £'!D11*D$35 -> 7094.21 | E11: ='Overview in £'!E11*E$35 -> 31671.567 | F11: ='Overview in £'!F11*F$35 -> 21594.583 | G11: ='Overview in £'!G11*G$35 -> 37050.354 | H11: ='Overview in £'!H11*H$35 -> 48107.965 | I11: ='Overview in £'!I11*I$35 -> 14469.364 | ... M11: ='Overview in £'!M11*M$35 -> 36619.198 | N11: ='Input from official annual repo'!B21*N35+'Input from official annual repo'!C21*N36 -> 61247.586
A12: PR/Marketing, Accounting, Bank Charges, Corp.Tax. & Misc. | B12: ='Overview in £'!B12*B$35 -> 2401.682 | C12: ='Overview in £'!C12*C$35 -> 11316.483 | D12: ='Overview in £'!D12*D$35 -> 7094.21 | E12: ='Overview in £'!E12*E$35 -> 4692.084 | F12: ='Overview in £'!F12*F$35 -> 13638.684 | G12: ='Overview in £'!G12*G$35 -> 11829.168 | H12: ='Overview in £'!H12*H$35 -> 16427.11 | I12: ='Overview in £'!I12*I$35 -> 12243.308 | ... L12: ='Overview in £'!L12*L$35 -> 102462.7 | M12: ='Overview in £'!M12*M$35+'Overview in £'!M14*M$35 -> 41445.832 | N12: =('Input from official annual repo'!B6+'Input from official annual repo'!B8+'Input from official annual repo'!B18+'Input from official annual repo'!B20+'Input from official annual repo'!B22+'Input from official annual repo'!B23+'Input from official annual repo'!B24+'Input from official annual repo'!B29+'Input from official annual repo'!B30)*N35+('Input from official annual repo'!C6+'Input from official annual repo'!C8+'Input from official annual repo'!C18+'Input from official annual repo'!C20+'Input from official annual repo'!C22+'Input from official annual repo'!C23+'Input from official annual repo'!C24+'Input from official annual repo'!C29+'Input from official annual repo'!C30)*N36 -> 65381.244
A13: Capital to establish Danish Foundation deposited with lawyer | L13: ='Overview in £'!L13*L$35 -> 136292.35 | M13: ='Overview in £'!M13*M$35 -> 0 | N13: 0
A16: IDRC expenses re Ambassadors
A17: Ambassadors compensation | E17: 46000
A18: Other expenses | E18: 3000
A19: Total expenses | B19: =SUM(B8:B12) -> 211348.02 | C19: =SUM(C8:C12) -> 247705.24 | D19: =SUM(D8:D12) -> 387343.87 | E19: =SUM(E8:E12) -> 376539.74 | F19: =SUM(F8:F18) -> 372790.7 | G19: =SUM(G8:G18) -> 661894.47 | H19: =SUM(H8:H18) -> 702845.64 | I19: =SUM(I8:I18) -> 848127.34 | J19: =SUM(J8:J18) -> 877168.83 | K19: =SUM(K8:K18) -> 1261778.8 | L19: =SUM(L8:L18) -> 1393671 | M19: =SUM(M8:M18) -> 1186308.7 | N19: =SUM(N8:N18) -> 1537944.5
A21: Corp.Tax. | J21: =max('Overview in £'!J28*J$35,0) -> 14033.79 | K21: =max('Overview in £'!K28*K$35,0) -> 0 | L21: =max('Overview in £'!L28*L$35,0) -> 0 | M21: =max('Overview in £'!M28*M$35,0) -> 105506.89 | N21: ='Input from official annual repo'!B51*N35 -> 119186.47
A22: Debt (to Director) | B22: ='Overview in £'!B22*B$35 -> 21615.138 | C22: ='Overview in £'!C22*C$35 -> 26405.127 | D22: ='Overview in £'!D22*D$35 -> 17026.104 | E22: ='Overview in £'!E22*E$35 -> 0 | F22: ='Overview in £'!F22*F$35 -> 0 | G22: ='Overview in £'!G22*G$35 -> 0 | H22: ='Overview in £'!H22*H$35 -> 0 | I22: ='Overview in £'!I22*I$35 -> 0 | ... M22: ='Overview in £'!M22*M$35 -> 0 | N22: 0
A24: Balance for Year | B24: =B5-B19-B21 -> 0 | C24: =C5-C19-C21 -> 1257.387 | D24: =D5-D19-D21 -> -9931.894 | E24: =E5-E19-E21 -> 110263.97 | F24: =F5-F19-F21 -> 10229.013 | G24: =G5-G19-G21 -> 22975.71 | H24: =H5-H19-H21 -> 239366.46 | I24: =I5-I19-I21 -> -70120.764 | ... N24: =N5-N19-N21 -> 157105.32
A26: *For 2025 the table shows the combined accounts for IS4OA (December 2024 - November 2025) for IS4OA and for the DOAJ Foundation (January - December 2025)
B34: 41608 | C34: 41973 | D34: 42338 | E34: 42704 | F34: 43069 | G34: 43434 | H34: 43799 | I34: 44165 | J34: 44530 | K34: 44895 | L34: 45260 | M34: 45626 | N34: 45991
A35: Exchange rate £ to € | B35: 1.200841 | C35: 1.257387 | D35: 1.418842 | E35: 1.173021 | F35: 1.136557 | G35: 1.122738 | H35: 1.173365 | I35: 1.113028 | J35: 1.174081 | K35: 1.15623 | L35: 1.157836 | M35: 1.201851 | N35: 1.142596
A36: DKK to € | N36: =0.13389 -> 0.13389
A37: Data source:
A38: https://fxtop.com/en/historical-currency-converter.php?A=1&C1=GBP&C2=EUR&DD=30&MM=11&YYYY=2013&btnOK=Go%21&B=1&P=-2&I=1

Sheet Input from official annual repo
A1: From official annual report | B1: IS4OA | C1: DOAJ Foundation | D1: IS4OA | Q1: 45625 | R1: 45260
B2: £ | C2: DKK | D2: £ | E2: £ | F2: £ | G2: £
A3: Cost of sales | B3: 2025 | C3: 2025 | D3: 2024 | E3: 2023 | F3: 2022 | G3: 2021 | N3: 2024 Cost incl. VAT ($) | P3: GBP to USD | Q3: 1.2733 | R3: 1.2632
A4: Online library licence and management costs | B4: 10084 | D4: 9225 | E4: 8929 | F4: 6940 | G4: 4920 | I4: =D4-E4 -> 296 | K4: =D4*$Q$3 -> 11746.192 | L4: =E4*$R$3 -> 11279.113 | N4: =K4*(1+25%) -> 14682.741
A5: Online library special projects | B5: 123549
A6: TCS costs | D6: 5363 | E6: 10048 | F6: 9430 | G6: 2687 | I6: =D6-E6 -> -4685 | K6: =D6*$Q$3 -> 6828.7079 | L6: =E6*$R$3 -> 12692.634 | N6: =K6*(1+25%) -> 8535.8849
A7: JASPER costs | F7: 7130 | G7: 23940
A8: Open Access Journal Toolkit costs | D8: 4130 | E8: 65491 | I8: =D8-E8 -> -61361 | K8: =D8*$Q$3 -> 5258.729 | L8: =E8*$R$3 -> 82728.231 | N8: =K8*(1+25%) -> 6573.4113
B9: 152485 | D9: 18718 | E9: 84468 | F9: =sum(F4:F8) -> 23500 | G9: =sum(G4:G8) -> 31547 | I9: =D9-E9 -> -65750 | K9: =D9*$Q$3 -> 23833.629 | L9: =E9*$R$3 -> 106699.98
I10: =D10-E10 -> 0 | K10: =D10*$Q$3 -> 0 | L10: =E10*$R$3 -> 0
A11: Employment costs | I11: =D11-E11 -> 0 | K11: =D11*$Q$3 -> 0 | L11: =E11*$R$3 -> 0
A12: Subcontract cost | B12: 406084 | C12: 1270968 | D12: 550095 | E12: 544129 | F12: 515241 | G12: 543491 | I12: =D12-E12 -> 5966 | K12: =D12*$Q$3 -> 700435.96 | L12: =E12*$R$3 -> 687343.75 | N12: =K12*(1+25%) -> 875544.95
A13: Employee costs | B13: 167344 | C13: 789113 | D13: 150338 | E13: 169846 | F13: 106491 | I13: =D13-E13 -> -19508 | K13: =D13*$Q$3 -> 191425.38 | L13: =E13*$R$3 -> 214549.47 | N13: =K13 -> 191425.38 | O13: no VAT
B14: =sum(B12:B13) -> 573428 | C14: =sum(C12:C13) -> 2060081 | D14: 700433 | E14: 713975 | F14: =sum(F12:F13) -> 621732 | G14: =sum(G12:G13) -> 543491 | I14: =D14-E14 -> -13542 | K14: =D14*$Q$3 -> 891861.34 | L14: =E14*$R$3 -> 901893.22
I15: =D15-E15 -> 0 | K15: =D15*$Q$3 -> 0 | L15: =E15*$R$3 -> 0
A16: General administrative expenses | I16: =D16-E16 -> 0 | K16: =D16*$Q$3 -> 0 | L16: =E16*$R$3 -> 0
A17: Computer software and maintenance costs | B17: 14400 | C17: 2501 | D17: 15896 | E17: 18447 | F17: 14328 | G17: 4670 | I17: =D17-E17 -> -2551 | K17: =D17*$Q$3 -> 20240.377 | L17: =E17*$R$3 -> 23302.25 | N17: =K17*(1+25%) -> 25300.471
A18: Membership and subscriptions | B18: 4769 | C18: 19163 | D18: 5033 | E18: 430 | F18: 342 | G18: 225 | I18: =D18-E18 -> 4603 | K18: =D18*$Q$3 -> 6408.5189 | L18: =E18*$R$3 -> 543.176 | N18: =K18*(1+25%) -> 8010.6486
A19: Donations to Danish Foundation Charity | B19: 375000 | E19: 117713 | F19: 0 | G19: 556 | I19: =D19-E19 -> -117713 | K19: =D19*$Q$3 -> 0 | L19: =E19*$R$3 -> 148695.06 | N19: =K19*(1+25%) -> 0
A20: Sundry expenses | B20: 41 | C20: =7795+9679 -> 17474 | D20: 2118 | E20: 930 | F20: 1447 | G20: 5400 | I20: =D20-E20 -> 1188 | K20: =D20*$Q$3 -> 2696.8494 | L20: =E20*$R$3 -> 1174.776 | N20: =K20*(1+25%) -> 3371.0617
A21: Travel and subsistence | B21: 42376 | C21: 95817 | D21: 30469 | E21: 28427 | F21: 32346 | G21: 2540 | I21: =D21-E21 -> 2042 | K21: =D21*$Q$3 -> 38796.178 | L21: =E21*$R$3 -> 35908.986 | N21: =K21 -> 38796.178 | O21: no VAT
A22: Accountancy fees | B22: 7834 | C22: =30000 -> 30000 | D22: 2832 | E22: 2610 | F22: 2492 | G22: 115 | I22: =D22-E22 -> 222 | K22: =D22*$Q$3 -> 3605.9856 | L22: =E22*$R$3 -> 3296.952 | N22: =K22*(1+25%) -> 4507.482
A23: Insurance | B23: =2526+82 -> 2608 | D23: 114 | E23: 104 | F23: 616 | I23: =D23-E23 -> 10 | K23: =D23*$Q$3 -> 145.1562 | L23: =E23*$R$3 -> 131.3728 | N23: =K23 -> 145.1562 | O23: no VAT
A24: Legal and professional fees | B24: 25133 | C24: =60952+8400 -> 69352 | D24: 4736 | E24: 8792 | F24: 10252 | I24: =D24-E24 -> -4056 | K24: =D24*$Q$3 -> 6030.3488 | L24: =E24*$R$3 -> 11106.054 | N24: =K24*(1+25%) -> 7537.936
A25: Meta-data survey | D25: 10000 | I25: =D25-E25 -> 10000 | K25: =D25*$Q$3 -> 12733 | L25: =E25*$R$3 -> 0
B26: =sum(B17:B25) -> 472161 | C26: =sum(C17:C25) -> 234307 | D26: 71198 | E26: 177453 | F26: =sum(F17:F25) -> 61823 | G26: =sum(G17:G25) -> 13506 | I26: =D26-E26 -> -106255 | K26: =D26*$Q$3 -> 90656.413 | L26: =E26*$R$3 -> 224158.63 | N26: =sum(N4:N25) -> 1184431.3
I27: =D27-E27 -> 0 | K27: =D27*$Q$3 -> 0 | L27: =E27*$R$3 -> 0
A28: Finance charges | I28: =D28-E28 -> 0 | K28: =D28*$Q$3 -> 0 | L28: =E28*$R$3 -> 0
A29: Bank charges | B29: 160 | C29: 6327 | D29: 92 | E29: 46 | F29: 539 | G29: 717 | I29: =D29-E29 -> 46 | K29: =D29*$Q$3 -> 117.1436 | L29: =E29*$R$3 -> 58.1072
A30: Paypal charges | D30: 67 | E30: 44 | F30: 193 | G30: 531 | I30: =D30-E30 -> 23 | K30: =D30*$Q$3 -> 85.3111 | L30: =E30*$R$3 -> 55.5808
B31: =sum(B29:B30) -> 160 | C31: =sum(C29:C30) -> 6327 | D31: 159 | E31: 90 | F31: =sum(F29:F30) -> 732 | G31: =sum(G29:G30) -> 1248 | I31: =D31-E31 -> 69 | K31: =D31*$Q$3 -> 202.4547 | L31: =E31*$R$3 -> 113.688
I32: =D32-E32 -> 0 | K32: =D32*$Q$3 -> 0 | L32: =E32*$R$3 -> 0
A33: Depreciation costs | I33: =D33-E33 -> 0 | K33: =D33*$Q$3 -> 0 | L33: =E33*$R$3 -> 0
A34: Depreciation of website | B34: 90676 | C34: 0 | D34: 65520 | E34: 75900 | F34: 196230 | G34: 181815 | I34: =D34-E34 -> -10380 | K34: =D34*$Q$3 -> 83426.616 | L34: =E34*$R$3 -> 95876.88
A35: Impairment loss of website | B35: 181352 | C35: 0 | D35: 131040 | E35: 151800 | F35: 194400 | G35: 0 | I35: =D35-E35 -> -20760 | K35: =D35*$Q$3 -> 166853.23 | L35: =E35*$R$3 -> 191753.76
B36: =sum(B34:B35) -> 272028 | C36: =sum(C34:C35) -> 0 | D36: =sum(D34:D35) -> 196560 | E36: =sum(E34:E35) -> 227700 | F36: =sum(F34:F35) -> 390630 | G36: =sum(G34:G35) -> 181815 | I36: =D36-E36 -> -31140 | K36: =D36*$Q$3 -> 250279.85 | L36: =E36*$R$3 -> 287630.64
I37: =D37-E37 -> 0 | K37: =D37*$Q$3 -> 0 | L37: =E37*$R$3 -> 0
A38: Total costs inkl. depreciations | B38: =B36+B31+B26+B14+B9 -> 1470262 | C38: =C36+C31+C26+C14+C9 -> 2300715 | D38: =D36+D31+D26+D14+D9 -> 987068 | E38: =E36+E31+E26+E14+E9 -> 1203686 | F38: =F36+F31+F26+F14+F9 -> 1098417 | G38: =G36+G31+G26+G14+G9 -> 771607 | I38: =D38-E38 -> -216618 | K38: =D38*$Q$3 -> 1256833.7 | L38: =E38*$R$3 -> 1520496.2
A45: Income | B45: 1507469 | C45: 685699 | D45: 1338215 | E45: 1150389 | F45: 956864 | G45: 865320 | J45: 1150389 | K45: 1338215
A46: Financial income | B46: 629 | C46: 40045
...

Sheet Ark3
A1: Cost of sales | B1: 2024 | C1: 2023
A2: Online library licence and management costs | B2: 9225 | C2: 8929
A3: TCS costs | B3: 5363 | C3: 10048
A4: Open Access Journal Toolkit costs | B4: 4130 | C4: 65491
B5: 18718 | C5: 84468
A7: Employment costs
A8: Subcontract cost | B8: 550095 | C8: 544129
A9: Employee costs | B9: 150338 | C9: 169846
B10: 700433 | C10: 713975
A12: General administrative expenses
A13: Computer software and maintenance costs | B13: 15896 | C13: 18447
A14: Membership and subscriptions | B14: 5033 | C14: 430
A15: Donations to Danish Foundation Charity | C15: -117713
A16: Sundry expenses | B16: 2118 | C16: 930
A17: Travel and subsistence | B17: 30469 | C17: 28427
A18: Accountancy fees | B18: 2832 | C18: 2610
A19: Insurance | B19: 114 | C19: 104
A20: Legal and professional fees | B20: 4736 | C20: 8792
A21: Meta-data survey | B21: 10000
B22: 71198 | C22: 177453
A24: Finance charges
A25: Bank charges | B25: 92 | C25: 46
A26: Paypal charges | B26: 67 | C26: 44
B27: 159 | C27: 90
A29: Depreciation costs
A30: Depreciation of website | B30: 65520 | C30: 75900
A31: Impairment loss of website | B31: 131040 | C31: 151800
B32: 196560 | C32: 227700
